BEGIN:VCALENDAR
VERSION:2.0
PRODID:-//Collège NELSON MANDELA - ECPv5.14.2.1//NONSGML v1.0//EN
CALSCALE:GREGORIAN
METHOD:PUBLISH
X-WR-CALNAME:Collège NELSON MANDELA
X-ORIGINAL-URL:https://collegenelsonmandela.fr
X-WR-CALDESC:évènements pour Collège NELSON MANDELA
REFRESH-INTERVAL;VALUE=DURATION:PT1H
X-Robots-Tag:noindex
X-PUBLISHED-TTL:PT1H
BEGIN:VTIMEZONE
TZID:Europe/Paris
BEGIN:DAYLIGHT
TZOFFSETFROM:+0100
TZOFFSETTO:+0200
TZNAME:CEST
DTSTART:20230326T010000
END:DAYLIGHT
BEGIN:STANDARD
TZOFFSETFROM:+0200
TZOFFSETTO:+0100
TZNAME:CET
DTSTART:20231029T010000
END:STANDARD
END:VTIMEZONE
BEGIN:VEVENT
DTSTART;TZID=Europe/Paris:20231201T180000
DTEND;TZID=Europe/Paris:20231201T190000
DTSTAMP:20260421T103252
CREATED:20231117T083333Z
LAST-MODIFIED:20231117T083335Z
UID:1641-1701453600-1701457200@collegenelsonmandela.fr
SUMMARY:Cérémonie de remise des diplômes DNB\, CFG\, DELF\, BIA
DESCRIPTION:
URL:https://collegenelsonmandela.fr/event/ceremonie-de-remise-des-diplomes-dnb-cfg-delf-bia/
END:VEVENT
BEGIN:VEVENT
DTSTART;TZID=Europe/Paris:20231214T180000
DTEND;TZID=Europe/Paris:20231214T193000
DTSTAMP:20260421T103252
CREATED:20231207T162246Z
LAST-MODIFIED:20231207T162247Z
UID:1702-1702576800-1702582200@collegenelsonmandela.fr
SUMMARY:Réunion sur le dispositif de lutte contre le harcèlement et le rôle des parents
DESCRIPTION:
URL:https://collegenelsonmandela.fr/event/reunion-sur-le-dispositif-de-lutte-contre-le-harcelement-et-le-role-des-parents/
END:VEVENT
BEGIN:VEVENT
DTSTART;TZID=Europe/Paris:20231221T120000
DTEND;TZID=Europe/Paris:20231221T140000
DTSTAMP:20260421T103252
CREATED:20231215T165440Z
LAST-MODIFIED:20231215T165441Z
UID:1708-1703160000-1703167200@collegenelsonmandela.fr
SUMMARY:Repas de Noël
DESCRIPTION:
URL:https://collegenelsonmandela.fr/event/repas-de-noel/
END:VEVENT
END:VCALENDAR