BEGIN:VCALENDAR
VERSION:2.0
PRODID:-//Collège NELSON MANDELA - ECPv5.14.2.1//NONSGML v1.0//EN
CALSCALE:GREGORIAN
METHOD:PUBLISH
X-WR-CALNAME:Collège NELSON MANDELA
X-ORIGINAL-URL:https://collegenelsonmandela.fr
X-WR-CALDESC:évènements pour Collège NELSON MANDELA
REFRESH-INTERVAL;VALUE=DURATION:PT1H
X-Robots-Tag:noindex
X-PUBLISHED-TTL:PT1H
BEGIN:VTIMEZONE
TZID:Europe/Paris
BEGIN:DAYLIGHT
TZOFFSETFROM:+0100
TZOFFSETTO:+0200
TZNAME:CEST
DTSTART:20230326T010000
END:DAYLIGHT
BEGIN:STANDARD
TZOFFSETFROM:+0200
TZOFFSETTO:+0100
TZNAME:CET
DTSTART:20231029T010000
END:STANDARD
END:VTIMEZONE
BEGIN:VEVENT
DTSTART;TZID=Europe/Paris:20230130T080000
DTEND;TZID=Europe/Paris:20230630T170000
DTSTAMP:20260421T151335
CREATED:20230106T123309Z
LAST-MODIFIED:20230220T153928Z
UID:839-1675065600-1688144400@collegenelsonmandela.fr
SUMMARY:Lycées - Journées Portes Ouvertes
DESCRIPTION:Pensez à profiter des journées portes ouvertes des différents lycées de la région ! Liste des journées ici.
URL:https://collegenelsonmandela.fr/event/3ieme-journees-portes-ouvertes/
CATEGORIES:Mis en avant,Parents
ATTACH;FMTTYPE=image/png:https://collegenelsonmandela.fr/wp-content/uploads/2023/01/JPO.png
END:VEVENT
BEGIN:VEVENT
DTSTART;TZID=Europe/Paris:20230601T080000
DTEND;TZID=Europe/Paris:20230628T170000
DTSTAMP:20260421T151335
CREATED:20230406T115840Z
LAST-MODIFIED:20230601T100437Z
UID:1124-1685606400-1687971600@collegenelsonmandela.fr
SUMMARY:Inscriptions Lycée François MAURIAC
DESCRIPTION:Lycée François MAURIAC : \n\n\n\nDossier d’inscription accessibles dès le 1 juin : Lien vers le site ici afin d’anticiper leur constitution.  \n\n\n\nLes inscriptions auront lieu le mercredi 28 juin de 8h à 18h pour le collège Nelson MANDELA.
URL:https://collegenelsonmandela.fr/event/inscriptions-apres-le-college/
CATEGORIES:Mis en avant,Parents
ATTACH;FMTTYPE=image/jpeg:https://collegenelsonmandela.fr/wp-content/uploads/2023/04/Dossier-dinscirption.jpg
END:VEVENT
BEGIN:VEVENT
DTSTART;TZID=Europe/Paris:20230601T080000
DTEND;TZID=Europe/Paris:20230608T170000
DTSTAMP:20260421T151335
CREATED:20230601T100007Z
LAST-MODIFIED:20230601T100227Z
UID:1215-1685606400-1686243600@collegenelsonmandela.fr
SUMMARY:Inscriptions et Réinscriptions au collège
DESCRIPTION:LES INSCRIPTIONS ET RÉINSCRIPTIONS AU COLLÈGE :-> Du 30/05 au 02/06\, distribution des dossiers de réinscription.-> Le vendredi 09 juin\, retour obligatoire\, du dossier de réinscription vérifié\, complété etsigné par les responsables pour une réinscription en 2023/2024 par l’intermédiaire desprofesseurs principaux. \n\n\n\nA partir du 15 juin\, inscription au collège des nouveaux élèves de 6e.
URL:https://collegenelsonmandela.fr/event/inscriptions-et-reinscriptions-au-college/
CATEGORIES:Mis en avant,Parents
ATTACH;FMTTYPE=image/jpeg:https://collegenelsonmandela.fr/wp-content/uploads/2022/05/college-entete.jpg
END:VEVENT
BEGIN:VEVENT
DTSTART;TZID=Europe/Paris:20230620T173000
DTEND;TZID=Europe/Paris:20230620T190000
DTSTAMP:20260421T151335
CREATED:20230615T134205Z
LAST-MODIFIED:20230615T134750Z
UID:1259-1687282200-1687287600@collegenelsonmandela.fr
SUMMARY:Soirée des talents
DESCRIPTION:Pour honorer les élèves qui se sont particulièrement illustrés cette année par leurs engagements\, le collège Nelson MANDELA de FLOIRAC organise\, à partir de 17h30\, le 20 juin la « Soirée des Talents ». Cet évènement réunit ces élèves\, leurs familles et les équipes pédagogiques\, autour d’animations – intermède théâtral\, lecture de textes – et de remises de prix. Il s’agit de valoriser des élèves porteurs de valeurs telles que la volonté\, l’investissement\, le dépassement de soi. \n\n\n\nVenez découvrir les activités ou projets dans lesquels ils se sont démarqués …. \n\n\n\nOuvert à tous\, alors à très bientôt !
URL:https://collegenelsonmandela.fr/event/soiree-des-talents/
LOCATION:Collège Nelson MANDELA\, Floirac\, 20 avenue de la Libération\, Floirac\, 33167
CATEGORIES:Mis en avant,Parents
ATTACH;FMTTYPE=image/jpeg:https://collegenelsonmandela.fr/wp-content/uploads/2023/06/talent-entete.jpg
END:VEVENT
BEGIN:VEVENT
DTSTART;TZID=Europe/Paris:20230622T193000
DTEND;TZID=Europe/Paris:20230622T210000
DTSTAMP:20260421T151335
CREATED:20230620T091516Z
LAST-MODIFIED:20230620T091746Z
UID:1333-1687462200-1687467600@collegenelsonmandela.fr
SUMMARY:Spectacle de l'atelier théâtre
DESCRIPTION:Spectacle de l’atelier théâtre du collège Mandela :Ma part du mondeJeudi 22 juin à la M270 à 19h30Entrée gratuite\, sans réservation. Arrivée avant 19h25. Durée approximative : 1h.Les enfants doivent être accompagnés d’un adulte. Âge minimum conseillé : 7 ans.
URL:https://collegenelsonmandela.fr/event/spectacle-de-latelier-theatre-2/
LOCATION:Salle M270 à Floirac\, 11 Av. Pierre Curie\, Floirac\, Gironde\, 33270\, France
CATEGORIES:Mis en avant,Parents
ATTACH;FMTTYPE=image/jpeg:https://collegenelsonmandela.fr/wp-content/uploads/2023/06/Ma-part-du-monde.jpg
END:VEVENT
END:VCALENDAR