BEGIN:VCALENDAR
VERSION:2.0
PRODID:-//Collège NELSON MANDELA - ECPv5.14.2.1//NONSGML v1.0//EN
CALSCALE:GREGORIAN
METHOD:PUBLISH
X-WR-CALNAME:Collège NELSON MANDELA
X-ORIGINAL-URL:https://collegenelsonmandela.fr
X-WR-CALDESC:évènements pour Collège NELSON MANDELA
REFRESH-INTERVAL;VALUE=DURATION:PT1H
X-Robots-Tag:noindex
X-PUBLISHED-TTL:PT1H
BEGIN:VTIMEZONE
TZID:Europe/Paris
BEGIN:DAYLIGHT
TZOFFSETFROM:+0100
TZOFFSETTO:+0200
TZNAME:CEST
DTSTART:20230326T010000
END:DAYLIGHT
BEGIN:STANDARD
TZOFFSETFROM:+0200
TZOFFSETTO:+0100
TZNAME:CET
DTSTART:20231029T010000
END:STANDARD
END:VTIMEZONE
BEGIN:VEVENT
DTSTART;TZID=Europe/Paris:20230130T053000
DTEND;TZID=Europe/Paris:20230203T233000
DTSTAMP:20260421T210622
CREATED:20230124T085537Z
LAST-MODIFIED:20230131T193804Z
UID:872-1675056600-1675467000@collegenelsonmandela.fr
SUMMARY:Voyage au ski
DESCRIPTION:Nous allons nous rendre dans la ville de Corrençon en Vercors dans l’Isère où nous serons logés dans le centre Les Rambins. Au menu des activités : randonnée raquette\, ski alpin\, ski de fond et soirées folles ! \n\n\n\nLien ici pour le reportage du séjour.
URL:https://collegenelsonmandela.fr/event/voyage-au-ski/
CATEGORIES:Mis en avant,Parents
END:VEVENT
BEGIN:VEVENT
DTSTART;TZID=Europe/Paris:20230130T080000
DTEND;TZID=Europe/Paris:20230630T170000
DTSTAMP:20260421T210622
CREATED:20230106T123309Z
LAST-MODIFIED:20230220T153928Z
UID:839-1675065600-1688144400@collegenelsonmandela.fr
SUMMARY:Lycées - Journées Portes Ouvertes
DESCRIPTION:Pensez à profiter des journées portes ouvertes des différents lycées de la région ! Liste des journées ici.
URL:https://collegenelsonmandela.fr/event/3ieme-journees-portes-ouvertes/
CATEGORIES:Mis en avant,Parents
ATTACH;FMTTYPE=image/png:https://collegenelsonmandela.fr/wp-content/uploads/2023/01/JPO.png
END:VEVENT
BEGIN:VEVENT
DTSTART;TZID=Europe/Paris:20230220T160000
DTEND;TZID=Europe/Paris:20230221T200000
DTSTAMP:20260421T210622
CREATED:20230126T130557Z
LAST-MODIFIED:20230126T130804Z
UID:880-1676908800-1677009600@collegenelsonmandela.fr
SUMMARY:Rencontre parents 6e\, 5e et 4e
DESCRIPTION:Le lundi 20 février prochain\, à partir de 16h\, aura lieu la rencontre parents / professeurs des classes de 5e et de 4e.Le mardi 21 février prochain\, à partir de 16h\, aura lieu la rencontre parents / professeurs des classes de 6e. A l’occasion de ces rencontres\, les bulletins du 1e semestre vous seront remis. Ils seront publiés sur votre espace parents le 30 Janvier prochain. Vous avez deux solutions pour nous indiquer vos disponibilités et les professeurs que vous voulez rencontrer : \n\n\n\n-> Soit vous le faites à partir de votre espace Pronote à partir du 30 Janvier jusqu’au 2 Février dernier délai. \n\n\n\n-> Soit vous complétez les deux feuilles que nous allons transmettre aux élèves lundi 30 janvier et votre enfant nous les renvoie avant le 2 Février à l’accueil dans une boîte à cet effet. Je voudrais évoquer le cas particulier des élèves qui partent en voyage la semaine prochaine dans le Vercors. Nous leur avons transmis les feuilles de renseignement\, vous pourrez les compléter dès maintenant si vous choisissez le papier comme modalité de retour.
URL:https://collegenelsonmandela.fr/event/rencontre-parents/
CATEGORIES:Mis en avant,Parents
ATTACH;FMTTYPE=image/jpeg:https://collegenelsonmandela.fr/wp-content/uploads/2022/05/college-entete.jpg
END:VEVENT
BEGIN:VEVENT
DTSTART;TZID=Europe/Paris:20230222T080000
DTEND;TZID=Europe/Paris:20230222T121500
DTSTAMP:20260421T210622
CREATED:20230220T153600Z
LAST-MODIFIED:20230220T153601Z
UID:1027-1677052800-1677068100@collegenelsonmandela.fr
SUMMARY:Oraux 3ième - cours modifiés
DESCRIPTION:Photo : Match d’Improvisation théâtrale à la manière de Molière avec les élèves du collège Pasteur de Mantes-la-Jolie\n\n\n\nAucun cours ne assuré pour les niveaux 6ième et 5ième. \n\n\n\nLes 4ième auront biens cours mercredi matin.
URL:https://collegenelsonmandela.fr/event/oraux-3ieme-cours-modifies/
CATEGORIES:Mis en avant,Parents
ATTACH;FMTTYPE=image/jpeg:https://collegenelsonmandela.fr/wp-content/uploads/2022/05/college-entete.jpg
END:VEVENT
BEGIN:VEVENT
DTSTART;TZID=Europe/Paris:20230224T090000
DTEND;TZID=Europe/Paris:20230226T160000
DTSTAMP:20260421T210622
CREATED:20230220T152052Z
LAST-MODIFIED:20230220T153753Z
UID:1022-1677229200-1677427200@collegenelsonmandela.fr
SUMMARY:Salon AQUITEC - Orientation - Formation - Emploi - Métiers
DESCRIPTION:Les Psy-EN des CIO de la Gironde seront notamment présents le vendredi 24 février pour accueillir les collégiens. \n\n\n\nLes équipes de l’Onisep seront également présentes et proposeront une animation portant sur la découverte de métiers.Sous la forme d’une course d’orientation\, les élèves devront trouver des réponses aux questions qui leur sont posées en interviewant les exposants.Ils découvriront ainsi des métiers connus et moins connus de différents secteurs d’activité présents sur le salon tels que l’agriculture\, transport et logistique\, défense\, BTP\, etc. \n\n\n\n\n\n\n\nSALON DE L’ORIENTATION\, LA FORMATION\, L’EMPLOI ET DES METIERS \n\n\n\nLe rendez-vous incontournable des 15/25 ans et des adultes en évolution professionnelle. \n\n\n\nDurant les 3 jours de notre salon\, un atelier sera animé par les Fédérations des parents d’élèves.
URL:https://collegenelsonmandela.fr/event/salon-aquitec-orientation-formation-emploi-metiers/
CATEGORIES:Mis en avant,Parents
ATTACH;FMTTYPE=image/png:https://collegenelsonmandela.fr/wp-content/uploads/2023/02/Aquitec-2023.png
END:VEVENT
END:VCALENDAR