BEGIN:VCALENDAR
VERSION:2.0
PRODID:-//Collège NELSON MANDELA - ECPv5.14.2.1//NONSGML v1.0//EN
CALSCALE:GREGORIAN
METHOD:PUBLISH
X-WR-CALNAME:Collège NELSON MANDELA
X-ORIGINAL-URL:https://collegenelsonmandela.fr
X-WR-CALDESC:évènements pour Collège NELSON MANDELA
REFRESH-INTERVAL;VALUE=DURATION:PT1H
X-Robots-Tag:noindex
X-PUBLISHED-TTL:PT1H
BEGIN:VTIMEZONE
TZID:Europe/Paris
BEGIN:DAYLIGHT
TZOFFSETFROM:+0100
TZOFFSETTO:+0200
TZNAME:CEST
DTSTART:20230326T010000
END:DAYLIGHT
BEGIN:STANDARD
TZOFFSETFROM:+0200
TZOFFSETTO:+0100
TZNAME:CET
DTSTART:20231029T010000
END:STANDARD
END:VTIMEZONE
BEGIN:VEVENT
DTSTART;TZID=Europe/Paris:20231002T080000
DTEND;TZID=Europe/Paris:20231002T170000
DTSTAMP:20260421T103344
CREATED:20230927T173231Z
LAST-MODIFIED:20230927T173159Z
UID:1555-1696233600-1696266000@collegenelsonmandela.fr
SUMMARY:Limite pour commander la photo de classe
DESCRIPTION:Date limite pour commander la photo de classe. Rendre l’argent à votre professeur principal.
URL:https://collegenelsonmandela.fr/event/limite-pour-commander-la-photo-de-classe/
END:VEVENT
END:VCALENDAR