BEGIN:VCALENDAR
VERSION:2.0
PRODID:-//Collège NELSON MANDELA - ECPv5.14.2.1//NONSGML v1.0//EN
CALSCALE:GREGORIAN
METHOD:PUBLISH
X-WR-CALNAME:Collège NELSON MANDELA
X-ORIGINAL-URL:https://collegenelsonmandela.fr
X-WR-CALDESC:évènements pour Collège NELSON MANDELA
REFRESH-INTERVAL;VALUE=DURATION:PT1H
X-Robots-Tag:noindex
X-PUBLISHED-TTL:PT1H
BEGIN:VTIMEZONE
TZID:Europe/Paris
BEGIN:DAYLIGHT
TZOFFSETFROM:+0100
TZOFFSETTO:+0200
TZNAME:CEST
DTSTART:20230326T010000
END:DAYLIGHT
BEGIN:STANDARD
TZOFFSETFROM:+0200
TZOFFSETTO:+0100
TZNAME:CET
DTSTART:20231029T010000
END:STANDARD
END:VTIMEZONE
BEGIN:VEVENT
DTSTART;TZID=Europe/Paris:20230130T080000
DTEND;TZID=Europe/Paris:20230630T170000
DTSTAMP:20260421T180740
CREATED:20230106T123309Z
LAST-MODIFIED:20230220T153928Z
UID:839-1675065600-1688144400@collegenelsonmandela.fr
SUMMARY:Lycées - Journées Portes Ouvertes
DESCRIPTION:Pensez à profiter des journées portes ouvertes des différents lycées de la région ! Liste des journées ici.
URL:https://collegenelsonmandela.fr/event/3ieme-journees-portes-ouvertes/
CATEGORIES:Mis en avant,Parents
ATTACH;FMTTYPE=image/png:https://collegenelsonmandela.fr/wp-content/uploads/2023/01/JPO.png
END:VEVENT
BEGIN:VEVENT
DTSTART;TZID=Europe/Paris:20230406T080000
DTEND;TZID=Europe/Paris:20230531T170000
DTSTAMP:20260421T180740
CREATED:20230406T122921Z
LAST-MODIFIED:20230407T115648Z
UID:1129-1680768000-1685552400@collegenelsonmandela.fr
SUMMARY:Formation secourisme 3èmes
DESCRIPTION:Cette formation pour les 3èmes est à faire en autonomie (à l’exception des 3C déjà formés). Celle-ci permet d’obtenir le badge d’accès à la formation en présentiel qui sera réalisée dans un deuxième temps. Document support pour accéder à la formation ici. Présentation de la formation ici.
URL:https://collegenelsonmandela.fr/event/formation-secourisme/
CATEGORIES:Mis en avant,Parents
END:VEVENT
END:VCALENDAR