BEGIN:VCALENDAR
VERSION:2.0
PRODID:-//Collège NELSON MANDELA - ECPv5.14.2.1//NONSGML v1.0//EN
CALSCALE:GREGORIAN
METHOD:PUBLISH
X-WR-CALNAME:Collège NELSON MANDELA
X-ORIGINAL-URL:https://collegenelsonmandela.fr
X-WR-CALDESC:évènements pour Collège NELSON MANDELA
REFRESH-INTERVAL;VALUE=DURATION:PT1H
X-Robots-Tag:noindex
X-PUBLISHED-TTL:PT1H
BEGIN:VTIMEZONE
TZID:Europe/Paris
BEGIN:DAYLIGHT
TZOFFSETFROM:+0100
TZOFFSETTO:+0200
TZNAME:CEST
DTSTART:20220327T010000
END:DAYLIGHT
BEGIN:STANDARD
TZOFFSETFROM:+0200
TZOFFSETTO:+0100
TZNAME:CET
DTSTART:20221030T010000
END:STANDARD
END:VTIMEZONE
BEGIN:VEVENT
DTSTART;TZID=Europe/Paris:20220908T080000
DTEND;TZID=Europe/Paris:20220908T170000
DTSTAMP:20260422T061812
CREATED:20220906T082229Z
LAST-MODIFIED:20220906T084649Z
UID:538-1662624000-1662656400@collegenelsonmandela.fr
SUMMARY:Photo de classe
DESCRIPTION:Les photographies de classe auront lieu le jeudi 8 septembre. Les élèves seront également photographiés pour les portraits individuels. Les photos seront disponibles à l’achat via le foyersocio-éducatif du collège. Dés que les photos seront disponibles\, vous recevrez un formulaire enformat papier pour passer les commandes.
URL:https://collegenelsonmandela.fr/event/photo-de-classe/
CATEGORIES:Mis en avant,Parents
ATTACH;FMTTYPE=image/jpeg:https://collegenelsonmandela.fr/wp-content/uploads/2022/09/classe-ph-600x312-1.jpg
END:VEVENT
END:VCALENDAR