BEGIN:VCALENDAR
VERSION:2.0
PRODID:-//Collège NELSON MANDELA - ECPv5.14.2.1//NONSGML v1.0//EN
CALSCALE:GREGORIAN
METHOD:PUBLISH
X-WR-CALNAME:Collège NELSON MANDELA
X-ORIGINAL-URL:https://collegenelsonmandela.fr
X-WR-CALDESC:évènements pour Collège NELSON MANDELA
REFRESH-INTERVAL;VALUE=DURATION:PT1H
X-Robots-Tag:noindex
X-PUBLISHED-TTL:PT1H
BEGIN:VTIMEZONE
TZID:Europe/Paris
BEGIN:DAYLIGHT
TZOFFSETFROM:+0100
TZOFFSETTO:+0200
TZNAME:CEST
DTSTART:20220327T010000
END:DAYLIGHT
BEGIN:STANDARD
TZOFFSETFROM:+0200
TZOFFSETTO:+0100
TZNAME:CET
DTSTART:20221030T010000
END:STANDARD
END:VTIMEZONE
BEGIN:VEVENT
DTSTART;TZID=Europe/Paris:20220905T080000
DTEND;TZID=Europe/Paris:20220905T170000
DTSTAMP:20260422T063140
CREATED:20220623T132334Z
LAST-MODIFIED:20220701T082640Z
UID:473-1662364800-1662397200@collegenelsonmandela.fr
SUMMARY:2022-2023 - Rentrée normale
DESCRIPTION:Les cours sont assurés pour l’ensemble des élèves\, suivant leur emploi du temps provisoire valablepour les deux premières semaines au cours desquelles des ajustements peuvent intervenir. \n\n\n\nLes ramassages scolaires auront lieu aux heures habituelles 8h-17h (les élèves qui dépendent du ramassage scolaire pourront rester dans l’enceinte du collège). \n\n\n\nVous trouverez ici le lien vers le matériel scolaire attendu \n\n\n\nCollège Nelson Mandela à Floirac (33)
URL:https://collegenelsonmandela.fr/event/2022-2023-rentree-normale/
CATEGORIES:Mis en avant,Parents
ATTACH;FMTTYPE=image/jpeg:https://collegenelsonmandela.fr/wp-content/uploads/2022/05/college-entete.jpg
END:VEVENT
END:VCALENDAR