BEGIN:VCALENDAR
VERSION:2.0
PRODID:-//Collège NELSON MANDELA - ECPv5.14.2.1//NONSGML v1.0//EN
CALSCALE:GREGORIAN
METHOD:PUBLISH
X-WR-CALNAME:Collège NELSON MANDELA
X-ORIGINAL-URL:https://collegenelsonmandela.fr
X-WR-CALDESC:évènements pour Collège NELSON MANDELA
REFRESH-INTERVAL;VALUE=DURATION:PT1H
X-Robots-Tag:noindex
X-PUBLISHED-TTL:PT1H
BEGIN:VTIMEZONE
TZID:Europe/Paris
BEGIN:DAYLIGHT
TZOFFSETFROM:+0100
TZOFFSETTO:+0200
TZNAME:CEST
DTSTART:20220327T010000
END:DAYLIGHT
BEGIN:STANDARD
TZOFFSETFROM:+0200
TZOFFSETTO:+0100
TZNAME:CET
DTSTART:20221030T010000
END:STANDARD
END:VTIMEZONE
BEGIN:VEVENT
DTSTART;TZID=Europe/Paris:20220530T210000
DTEND;TZID=Europe/Paris:20220530T220000
DTSTAMP:20260422T105549
CREATED:20220524T082444Z
LAST-MODIFIED:20220524T163309Z
UID:315-1653944400-1653948000@collegenelsonmandela.fr
SUMMARY:Chorale Chante école
DESCRIPTION:Spectacle exceptionnel : lundi 30 mai\, 21h\, au Rocher de Palmer\, Cenon \n\n\n\nThème : I LOVE ROCK N’ ROLLRéservez vos places auprès de Julien GEAY. \n\n\n\n\n\n\n\n€ 3 ENFANTS\, € 8 ADULTES
URL:https://collegenelsonmandela.fr/event/chorale-chante-ecole/
LOCATION:Le Rocher de Palmer\, 1 Rue Aristide Briand\, 33152 Cenon
ATTACH;FMTTYPE=image/jpeg:https://collegenelsonmandela.fr/wp-content/uploads/2022/05/iloverack.jpg
END:VEVENT
END:VCALENDAR