BEGIN:VCALENDAR
VERSION:2.0
PRODID:-//Collège NELSON MANDELA - ECPv5.14.2.1//NONSGML v1.0//EN
CALSCALE:GREGORIAN
METHOD:PUBLISH
X-WR-CALNAME:Collège NELSON MANDELA
X-ORIGINAL-URL:https://collegenelsonmandela.fr
X-WR-CALDESC:évènements pour Collège NELSON MANDELA
REFRESH-INTERVAL;VALUE=DURATION:PT1H
X-Robots-Tag:noindex
X-PUBLISHED-TTL:PT1H
BEGIN:VTIMEZONE
TZID:Europe/Paris
BEGIN:DAYLIGHT
TZOFFSETFROM:+0100
TZOFFSETTO:+0200
TZNAME:CEST
DTSTART:20220327T010000
END:DAYLIGHT
BEGIN:STANDARD
TZOFFSETFROM:+0200
TZOFFSETTO:+0100
TZNAME:CET
DTSTART:20221030T010000
END:STANDARD
END:VTIMEZONE
BEGIN:VEVENT
DTSTART;TZID=Europe/Paris:20220519T080000
DTEND;TZID=Europe/Paris:20220520T170000
DTSTAMP:20260422T124300
CREATED:20220517T073451Z
LAST-MODIFIED:20220517T073626Z
UID:141-1652947200-1653066000@collegenelsonmandela.fr
SUMMARY:Certification PIX
DESCRIPTION:La certification numérique (PIX) pour toutes les classes de 3e\, l’examen aura lieu entre le 19 et le 20 mai : \n\n\n\nLe 19 mai : 3A de 9h à 10h au CDI \n\n\n\nLe 20 mai : 3D de 8h00 à 9h00\, 3F de 9h à 10h\, 3B de 10h à 11h\, 3C de 15h à 16h\, 3E de 14h à 15h  \n\n\n\nCette certification numérique délivre un diplôme de l’éducation nationale. \n\n\n\nDes sessions de rattrapage auront lieu avant le 25 mai
URL:https://collegenelsonmandela.fr/event/certification-pix/
ATTACH;FMTTYPE=image/png:https://collegenelsonmandela.fr/wp-content/uploads/2022/05/pix.png
END:VEVENT
BEGIN:VEVENT
DTSTART;TZID=Europe/Paris:20220519T121500
DTEND;TZID=Europe/Paris:20220519T134500
DTSTAMP:20260422T124300
CREATED:20220517T054514Z
LAST-MODIFIED:20220517T054601Z
UID:85-1652962500-1652967900@collegenelsonmandela.fr
SUMMARY:Grands jeux en bois
DESCRIPTION:Grands jeux en bois sous le Préau\, animation organisée par le Foyer Socio-Educatif
URL:https://collegenelsonmandela.fr/event/grands-jeux-en-bois/
ATTACH;FMTTYPE=image/jpeg:https://collegenelsonmandela.fr/wp-content/uploads/2022/05/jeu-bois.jpg
END:VEVENT
END:VCALENDAR